BEGIN:VCALENDAR
VERSION:2.0
PRODID:-//ExpressionEngine Easy iCalendar plugin//NONSGML v2.0.0//EN
X-WR-TIMEZONE:America/New_York
X-WR-CALNAME:Upcoming Auctions
BEGIN:VEVENT
UID:100887
DTSTAMP:20230513T180000
DTSTART:20230513T180000
DTEND:20230529T180000
SUMMARY:Items from the Estate of Mr. Larry Ritchie
LOCATION:944 Martinsburg Rd\, Berkeley Springs\, WV 25411\, US
DESCRIPTION:ITEMS FROM THE ESTATE OF MR. LARRY RITCHIE OF CUMBERLAND\, MD
  This online-only auction includes a wide variety of items f
 rom the estate of Mr. Larry Ritchie of Limestone Road\, Cumbe
 rland MD.
URL:https://www.yamauctions.com/auctions/detail/bw100887
SEQUENCE:1
END:VEVENT
END:VCALENDAR