BEGIN:VCALENDAR
VERSION:2.0
PRODID:-//ExpressionEngine Easy iCalendar plugin//NONSGML v2.0.0//EN
X-WR-TIMEZONE:America/New_York
X-WR-CALNAME:Upcoming Auctions
BEGIN:VEVENT
UID:141071
DTSTAMP:20250521T190000
DTSTART:20250521T190000
DTEND:20250607T190000
SUMMARY:Spring Sportsman's Sale - Part II
LOCATION:944 Martinsburg Road\, Berkeley Springs\, WV 25411\, US
DESCRIPTION:This online-only auction features more than four hundred lo
 ts of ammo\, ammo casings\, gun accessories including cases an
 d holsters\, plastic and metal ammo boxes\, rustic two-dimensi
 onal and three-dimensional decoys\, and more!
URL:https://www.yamauctions.com/auctions/detail/bw141071
SEQUENCE:1
END:VEVENT
END:VCALENDAR