BEGIN:VCALENDAR
VERSION:2.0
PRODID:-//ExpressionEngine Easy iCalendar plugin//NONSGML v2.0.0//EN
X-WR-TIMEZONE:America/New_York
X-WR-CALNAME:Upcoming Auctions
BEGIN:VEVENT
UID:45728
DTSTAMP:20200101T170000
DTSTART:20200101T170000
DTEND:20200110T180000
SUMMARY:Local Estate Auction
LOCATION:944 Martinsburg Road\, Berkeley Springs\, WV 25411\, US
DESCRIPTION:This online only estate auction includes Crystal glassware\, 
 Households\, Furniture\, Christmas Decorations\, and MUCH MORE!
 !!
URL:https://www.yamauctions.com/auctions/detail/bw45728
SEQUENCE:1
END:VEVENT
END:VCALENDAR