BEGIN:VCALENDAR
VERSION:2.0
PRODID:-//ExpressionEngine Easy iCalendar plugin//NONSGML v2.0.0//EN
X-WR-TIMEZONE:America/New_York
X-WR-CALNAME:Upcoming Auctions
BEGIN:VEVENT
UID:46581
DTSTAMP:20200131T180000
DTSTART:20200131T180000
DTEND:20200131T190000
SUMMARY:Live Auction
LOCATION:944 Martinsburg Rd\, Berkeley Springs\, WV 25411\, US
DESCRIPTION:LIVE ONLY AUCTION!
URL:https://www.yamauctions.com/auctions/detail/bw46581
SEQUENCE:1
END:VEVENT
END:VCALENDAR