BEGIN:VCALENDAR
VERSION:2.0
PRODID:-//ExpressionEngine Easy iCalendar plugin//NONSGML v2.0.1//EN
X-WR-TIMEZONE:America/New_York
X-WR-CALNAME:Upcoming Auctions
BEGIN:VEVENT
UID:49622
DTSTAMP:20200502T170000
DTSTART:20200502T170000
DTEND:20200516T180000
SUMMARY:Online Only Local Estate Auction
LOCATION:944 Martinsburg rd\, Berkeley Springs\, WV 25411\, US
DESCRIPTION:Online Only Local Estate Auction
URL:https://www.yamauctions.com/auctions/detail/bw49622
SEQUENCE:1
END:VEVENT
END:VCALENDAR