BEGIN:VCALENDAR
VERSION:2.0
PRODID:-//ExpressionEngine Easy iCalendar plugin//NONSGML v2.0.0//EN
X-WR-TIMEZONE:America/New_York
X-WR-CALNAME:Upcoming Auctions
BEGIN:VEVENT
UID:50444
DTSTAMP:20200522T180000
DTSTART:20200522T180000
DTEND:20200612T180000
SUMMARY:Downsizing Auction of Walter Houston
LOCATION:11 Richard St\, Berkeley Springs\, WV 25411\, US
DESCRIPTION:Downsizing Auction of Walter Houston
URL:https://www.yamauctions.com/auctions/detail/bw50444
SEQUENCE:1
END:VEVENT
END:VCALENDAR